BEGIN:VCALENDAR
VERSION:2.0
PRODID:-//wp-events-plugin.com//6.4.7.1//EN
TZID:Asia/Qatar
X-WR-TIMEZONE:Asia/Qatar
BEGIN:VEVENT
UID:32@nurtureacademy.co.in
DTSTART:20240429T193000Z
DTEND:20240429T203000Z
DTSTAMP:20240418T131717Z
URL:https://nurtureacademy.co.in/events-list/online-python-coding-classes/
SUMMARY:Online Python Coding Classes
DESCRIPTION:[et_pb_section fb_built="1" _builder_version="4.16" global_colo
 rs_info="{}"][et_pb_row _builder_version="4.16" background_size="initial" 
 background_position="top_left" background_repeat="repeat" global_colors_in
 fo="{}"][et_pb_column type="4_4" _builder_version="4.16" custom_padding="|
 ||" global_colors_info="{}" custom_padding__hover="|||"][et_pb_text _build
 er_version="4.22.1" background_size="initial" background_position="top_lef
 t" background_repeat="repeat" hover_enabled="0" global_colors_info="{}" st
 icky_enabled="0"]Dive into Creativity: Join Our 8-Day Python Coding Classe
 s for Kids (Ages 12-17)\nWelcome to Nurture Academy\, where young minds em
 bark on exciting learning journeys! We're thrilled to introduce our upcomi
 ng event: a 8-day Coding Adventure designed to ignite your child's passion
  for technology and innovation.[/et_pb_text][/et_pb_column][/et_pb_row][et
 _pb_row column_structure="1_2\,1_2" disabled_on="on|on|on" _builder_versio
 n="4.16" background_size="initial" background_position="top_left" backgrou
 nd_repeat="repeat" disabled="on" global_colors_info="{}"][et_pb_column typ
 e="1_2" _builder_version="4.16" custom_padding="|||" global_colors_info="{
 }" custom_padding__hover="|||"][et_pb_text _builder_version="4.22.1" backg
 round_size="initial" background_position="top_left" background_repeat="rep
 eat" global_colors_info="{}"]Event Details\nDate 🗓️: Starts from Apr 
 24\nTime ⏲️: 5.00 PM QT / 6.00 PM UAE / 7.30 PM IST\nDays 🌸: Wed &a
 mp\; Thu\nDuration ⏳: 5 Days[/et_pb_text][/et_pb_column][et_pb_column t
 ype="1_2" _builder_version="4.16" custom_padding="|||" global_colors_info=
 "{}" custom_padding__hover="|||"][et_pb_button button_url="https://forms.o
 ffice.com/r/e2wMMwmf8U" url_new_window="on" button_text="Register Now" but
 ton_alignment="center" disabled_on="off|off|off" admin_label="Button" _bui
 lder_version="4.22.1" _module_preset="default" button_bg_color="#820087" b
 utton_border_width="4px" button_border_color="#FFB000" animation_style="fa
 de" button_text_shadow_style="preset2" box_shadow_style="preset1" global_c
 olors_info="{}"][/et_pb_button][et_pb_button button_url="https://wa.me/918
 848485117" url_new_window="on" button_text="WhatsApp Now" button_alignment
 ="center" _builder_version="4.22.1" _module_preset="default" button_bg_col
 or="#FFB000" button_border_width="4px" button_border_color="#FFB000" anima
 tion_style="fade" button_text_shadow_style="preset2" box_shadow_style="pre
 set1" global_colors_info="{}"][/et_pb_button][et_pb_button button_url="htt
 ps://pages.razorpay.com/pl_NzzPpiirzxeGFi/view" url_new_window="on" button
 _text="Pay Now" button_alignment="center" _builder_version="4.22.1" _modul
 e_preset="default" button_bg_color="#00ecf4" button_border_width="4px" but
 ton_border_color="#FFB000" animation_style="fade" button_text_shadow_style
 ="preset2" box_shadow_style="preset1" global_colors_info="{}"][/et_pb_butt
 on][/et_pb_column][/et_pb_row][et_pb_row _builder_version="4.16" backgroun
 d_size="initial" background_position="top_left" background_repeat="repeat"
  global_colors_info="{}"][et_pb_column type="4_4" _builder_version="4.16" 
 custom_padding="|||" global_colors_info="{}" custom_padding__hover="|||"][
 et_pb_text _builder_version="4.22.1" background_size="initial" background_
 position="top_left" background_repeat="repeat" hover_enabled="0" global_co
 lors_info="{}" sticky_enabled="0"]Why Enroll Your Child?\n1. Master Python
  Programming: Give your child the opportunity to delve into the world of P
 ython programming. Our workshop introduces them to the fundamentals of Pyt
 hon\, from basic syntax to advanced concepts. Whether your child is a begi
 nner or has some coding experience\, they'll gain valuable skills and conf
 idence in Python coding.\n2. Learn from Industry Experts: Led by experienc
 ed instructors passionate about tech education\, our workshop offers top-q
 uality instruction tailored to your child's age and skill level. From unde
 rstanding variables and data types to creating interactive animations and 
 developing Android apps\, our experts provide personalized guidance every 
 step of the way.\n3. Build Essential Coding Skills: Python isn't just a pr
 ogramming language\; it's a powerful tool for problem-solving and creativi
 ty. Through hands-on projects and interactive exercises\, your child will 
 develop critical thinking\, logical reasoning\, and computational skills e
 ssential for success in today's digital world.\n4. Join a Vibrant Communit
 y: Enrolling in our workshop connects your child with a vibrant community 
 of young coders and tech enthusiasts. Through collaboration\, peer feedbac
 k\, and shared achievements\, they'll form lasting friendships and find in
 spiration in their peers.\nWhy Nurture Academy?\nAt Nurture Academy\, we'r
 e dedicated to providing comprehensive online courses that nurture your ch
 ild's interests and talents. From coding to arts and academics\, our progr
 ams are designed to inspire\, educate\, and empower young learners.\nConta
 ct Us to Learn More: In addition to our Python Coding Adventure\, we offer
  a wide range of courses including Scratch coding\, animation\, Android ap
 p development\, and image &amp\; video editing. Contact us today to discov
 er how Nurture Academy can support your child's learning journey!\nEnroll 
 Your Child Today: Don't miss out on this incredible opportunity to ignite 
 your child's passion for coding and technology. Join us for our 8-day Pyth
 on Coding Adventure and watch as your child discovers the thrill of progra
 mming with Python!\nLet us know if you need any further adjustments or add
 itions![/et_pb_text][/et_pb_column][/et_pb_row][et_pb_row column_structure
 ="1_2\,1_2" _builder_version="4.16" background_size="initial" background_p
 osition="top_left" background_repeat="repeat" global_colors_info="{}"][et_
 pb_column type="1_2" _builder_version="4.16" custom_padding="|||" global_c
 olors_info="{}" custom_padding__hover="|||"][et_pb_button button_url="http
 s://forms.office.com/r/e2wMMwmf8U" url_new_window="on" button_text="Regist
 er Now" button_alignment="center" disabled_on="on|on|on" admin_label="Butt
 on" _builder_version="4.22.1" _module_preset="default" button_bg_color="#8
 20087" button_border_width="4px" button_border_color="#FFB000" animation_s
 tyle="fade" button_text_shadow_style="preset2" box_shadow_style="preset1" 
 disabled="on" global_colors_info="{}"][/et_pb_button][/et_pb_column][et_pb
 _column type="1_2" _builder_version="4.16" custom_padding="|||" global_col
 ors_info="{}" custom_padding__hover="|||"][et_pb_button button_url="https:
 //wa.me/918848485117" url_new_window="on" button_text="WhatsApp Now" butto
 n_alignment="center" _builder_version="4.22.1" _module_preset="default" bu
 tton_bg_color="#FFB000" button_border_width="4px" button_border_color="#FF
 B000" animation_style="fade" button_text_shadow_style="preset2" box_shadow
 _style="preset1" global_colors_info="{}"][/et_pb_button][/et_pb_column][/e
 t_pb_row][et_pb_row column_structure="1_2\,1_2" _builder_version="4.22.1" 
 _module_preset="default" global_colors_info="{}"][et_pb_column type="1_2" 
 _builder_version="4.22.1" _module_preset="default" global_colors_info="{}"
 ][et_pb_image src="https://nurtureacademy.co.in/wp-content/uploads/2024/04
 /Python-coding-course-by-nurture-academy-1.jpeg" alt="Online python coding
  classes by nurture academy" title_text="Python coding course by nurture a
 cademy (1)" _builder_version="4.22.1" _module_preset="default" global_colo
 rs_info="{}"][/et_pb_image][/et_pb_column][et_pb_column type="1_2" _builde
 r_version="4.22.1" _module_preset="default" global_colors_info="{}"][et_pb
 _contact_form email="nurturec.marketing@gmail.com" title="Contact Now" cus
 tom_message="%%Name%%||et_pb_line_break_holder||%%email%%||et_pb_line_brea
 k_holder||%%message%%||et_pb_line_break_holder||%%WhatsApp_number%%" succe
 ss_message="Thank you for contacting us! 😊 Our team will be in touch wi
 th you shortly. Have a great day!" _builder_version="4.22.1" _module_prese
 t="default" _unique_id="73773662-606d-4e43-919f-4e0fc2f6dbcc" global_color
 s_info="{}"][et_pb_contact_field field_id="Name" field_title="Name" _build
 er_version="4.16" global_colors_info="{}" button_text_size__hover_enabled=
 "off" button_one_text_size__hover_enabled="off" button_two_text_size__hove
 r_enabled="off" button_text_color__hover_enabled="off" button_one_text_col
 or__hover_enabled="off" button_two_text_color__hover_enabled="off" button_
 border_width__hover_enabled="off" button_one_border_width__hover_enabled="
 off" button_two_border_width__hover_enabled="off" button_border_color__hov
 er_enabled="off" button_one_border_color__hover_enabled="off" button_two_b
 order_color__hover_enabled="off" button_border_radius__hover_enabled="off"
  button_one_border_radius__hover_enabled="off" button_two_border_radius__h
 over_enabled="off" button_letter_spacing__hover_enabled="off" button_one_l
 etter_spacing__hover_enabled="off" button_two_letter_spacing__hover_enable
 d="off" button_bg_color__hover_enabled="off" button_one_bg_color__hover_en
 abled="off" button_two_bg_color__hover_enabled="off"][/et_pb_contact_field
 ][et_pb_contact_field field_id="Email" field_title="Email Address" field_t
 ype="email" _builder_version="4.16" global_colors_info="{}" button_text_si
 ze__hover_enabled="off" button_one_text_size__hover_enabled="off" button_t
 wo_text_size__hover_enabled="off" button_text_color__hover_enabled="off" b
 utton_one_text_color__hover_enabled="off" button_two_text_color__hover_ena
 bled="off" button_border_width__hover_enabled="off" button_one_border_widt
 h__hover_enabled="off" button_two_border_width__hover_enabled="off" button
 _border_color__hover_enabled="off" button_one_border_color__hover_enabled=
 "off" button_two_border_color__hover_enabled="off" button_border_radius__h
 over_enabled="off" button_one_border_radius__hover_enabled="off" button_tw
 o_border_radius__hover_enabled="off" button_letter_spacing__hover_enabled=
 "off" button_one_letter_spacing__hover_enabled="off" button_two_letter_spa
 cing__hover_enabled="off" button_bg_color__hover_enabled="off" button_one_
 bg_color__hover_enabled="off" button_two_bg_color__hover_enabled="off"][/e
 t_pb_contact_field][et_pb_contact_field field_id="WhatsApp_Number" field_t
 itle="WhatsApp Number" fullwidth_field="on" _builder_version="4.22.1" _mod
 ule_preset="default" global_colors_info="{}"][/et_pb_contact_field][et_pb_
 contact_field field_id="Message" field_title="Message" field_type="text" f
 ullwidth_field="on" _builder_version="4.16" global_colors_info="{}" button
 _text_size__hover_enabled="off" button_one_text_size__hover_enabled="off" 
 button_two_text_size__hover_enabled="off" button_text_color__hover_enabled
 ="off" button_one_text_color__hover_enabled="off" button_two_text_color__h
 over_enabled="off" button_border_width__hover_enabled="off" button_one_bor
 der_width__hover_enabled="off" button_two_border_width__hover_enabled="off
 " button_border_color__hover_enabled="off" button_one_border_color__hover_
 enabled="off" button_two_border_color__hover_enabled="off" button_border_r
 adius__hover_enabled="off" button_one_border_radius__hover_enabled="off" b
 utton_two_border_radius__hover_enabled="off" button_letter_spacing__hover_
 enabled="off" button_one_letter_spacing__hover_enabled="off" button_two_le
 tter_spacing__hover_enabled="off" button_bg_color__hover_enabled="off" but
 ton_one_bg_color__hover_enabled="off" button_two_bg_color__hover_enabled="
 off"][/et_pb_contact_field][/et_pb_contact_form][/et_pb_column][/et_pb_row
 ][/et_pb_section]
ATTACH;FMTTYPE=image/jpeg:https://nurtureacademy.co.in/wp-content/uploads/
 2024/04/Python-coding-course-by-nurture-academy-1.jpeg
CATEGORIES:Python coding
END:VEVENT
END:VCALENDAR